Package: InterMineR Version: 1.26.0 Command: /Library/Frameworks/R.framework/Resources/bin/R CMD check --install=check:InterMineR.install-out.txt --library=/Library/Frameworks/R.framework/Resources/library --no-vignettes --timings InterMineR_1.26.0.tar.gz StartedAt: 2024-10-17 07:02:42 -0400 (Thu, 17 Oct 2024) EndedAt: 2024-10-17 07:10:20 -0400 (Thu, 17 Oct 2024) EllapsedTime: 458.2 seconds RetCode: 1 Status: ERROR CheckDir: InterMineR.Rcheck Warnings: NA