Package: InterMineR Version: 1.26.0 Command: /home/biocbuild/R/R-beta-2024-04-15_r86425/bin/R CMD build --keep-empty-dirs --no-resave-data InterMineR StartedAt: 2024-05-09 01:08:23 -0000 (Thu, 09 May 2024) EndedAt: 2024-05-09 01:10:02 -0000 (Thu, 09 May 2024) EllapsedTime: 99.1 seconds RetCode: 0 Status: OK PackageFile: InterMineR_1.26.0.tar.gz PackageFileSize: 4.926 MiB