Package: InterMineR Version: 1.26.0 Command: /Library/Frameworks/R.framework/Resources/bin/R CMD INSTALL InterMineR StartedAt: 2024-06-09 15:32:47 -0400 (Sun, 09 Jun 2024) EndedAt: 2024-06-09 15:33:28 -0400 (Sun, 09 Jun 2024) EllapsedTime: 40.9 seconds RetCode: 0 Status: OK