Package: InterMineR Version: 1.26.0 Command: /Library/Frameworks/R.framework/Resources/bin/R CMD check --install=check:InterMineR.install-out.txt --library=/Library/Frameworks/R.framework/Resources/library --no-vignettes --timings InterMineR_1.26.0.tar.gz StartedAt: 2024-10-18 01:26:15 -0400 (Fri, 18 Oct 2024) EndedAt: 2024-10-18 01:29:53 -0400 (Fri, 18 Oct 2024) EllapsedTime: 218.0 seconds RetCode: 1 Status: ERROR CheckDir: InterMineR.Rcheck Warnings: NA