Package: InterCellar Version: 2.10.0 Command: /Library/Frameworks/R.framework/Resources/bin/R CMD build --keep-empty-dirs --no-resave-data InterCellar StartedAt: 2024-10-16 20:13:16 -0400 (Wed, 16 Oct 2024) EndedAt: 2024-10-16 20:14:54 -0400 (Wed, 16 Oct 2024) EllapsedTime: 98.1 seconds RetCode: 0 Status: OK PackageFile: InterCellar_2.10.0.tar.gz PackageFileSize: 4.016 MiB