Package: InterCellar Version: 2.10.0 Command: /home/biocbuild/R/R-beta-2024-04-15_r86425/bin/R CMD INSTALL InterCellar StartedAt: 2024-05-08 21:05:19 -0000 (Wed, 08 May 2024) EndedAt: 2024-05-08 21:05:56 -0000 (Wed, 08 May 2024) EllapsedTime: 37.5 seconds RetCode: 0 Status: OK