Package: InterCellar Version: 2.10.0 Command: /Library/Frameworks/R.framework/Resources/bin/R CMD check --install=check:InterCellar.install-out.txt --library=/Library/Frameworks/R.framework/Resources/library --no-vignettes --timings InterCellar_2.10.0.tar.gz StartedAt: 2024-10-18 01:26:01 -0400 (Fri, 18 Oct 2024) EndedAt: 2024-10-18 01:29:16 -0400 (Fri, 18 Oct 2024) EllapsedTime: 195.5 seconds RetCode: 0 Status: OK CheckDir: InterCellar.Rcheck Warnings: 0