Package: IntOMICS Version: 1.4.0 Command: chmod a+r IntOMICS -R && E:\biocbuild\bbs-3.19-bioc\R\bin\R.exe CMD build --keep-empty-dirs --no-resave-data IntOMICS StartedAt: 2024-10-16 19:52:12 -0400 (Wed, 16 Oct 2024) EndedAt: 2024-10-16 19:52:58 -0400 (Wed, 16 Oct 2024) EllapsedTime: 45.5 seconds RetCode: 1 Status: ERROR PackageFile: None PackageFileSize: NA