Package: IntOMICS Version: 1.3.0 Command: F:\biocbuild\bbs-3.19-bioc\R\bin\R.exe CMD check --no-multiarch --install=check:IntOMICS.install-out.txt --library=F:\biocbuild\bbs-3.19-bioc\R\library --no-vignettes --timings IntOMICS_1.3.0.tar.gz StartedAt: 2024-01-03 04:35:23 -0500 (Wed, 03 Jan 2024) EndedAt: 2024-01-03 04:39:40 -0500 (Wed, 03 Jan 2024) EllapsedTime: 256.5 seconds RetCode: 0 Status: WARNINGS CheckDir: IntOMICS.Rcheck Warnings: 1