Package: IntOMICS Version: 1.3.0 Command: /home/biocbuild/bbs-3.19-bioc/R/bin/R CMD check --install=check:IntOMICS.install-out.txt --library=/home/biocbuild/bbs-3.19-bioc/R/site-library --timings IntOMICS_1.3.0.tar.gz StartedAt: 2024-01-02 22:57:04 -0500 (Tue, 02 Jan 2024) EndedAt: 2024-01-02 23:02:56 -0500 (Tue, 02 Jan 2024) EllapsedTime: 351.9 seconds RetCode: 0 Status: WARNINGS CheckDir: IntOMICS.Rcheck Warnings: 1