Package: IntOMICS Version: 1.4.0 Command: /home/biocbuild/bbs-3.19-bioc/R/bin/R CMD build --keep-empty-dirs --no-resave-data IntOMICS StartedAt: 2024-10-16 19:05:56 -0400 (Wed, 16 Oct 2024) EndedAt: 2024-10-16 19:06:28 -0400 (Wed, 16 Oct 2024) EllapsedTime: 32.1 seconds RetCode: 1 Status: ERROR PackageFile: None PackageFileSize: NA