Package: IntOMICS Version: 1.3.0 Command: /Library/Frameworks/R.framework/Resources/bin/R CMD check --install=check:IntOMICS.install-out.txt --library=/Library/Frameworks/R.framework/Resources/library --no-vignettes --timings IntOMICS_1.3.0.tar.gz StartedAt: 2024-01-03 03:37:03 -0500 (Wed, 03 Jan 2024) EndedAt: 2024-01-03 03:45:39 -0500 (Wed, 03 Jan 2024) EllapsedTime: 516.5 seconds RetCode: 0 Status: WARNINGS CheckDir: IntOMICS.Rcheck Warnings: 1