Package: IntOMICS Version: 1.4.0 Command: /Library/Frameworks/R.framework/Resources/bin/R CMD build --keep-empty-dirs --no-resave-data IntOMICS StartedAt: 2024-10-16 20:13:27 -0400 (Wed, 16 Oct 2024) EndedAt: 2024-10-16 20:14:51 -0400 (Wed, 16 Oct 2024) EllapsedTime: 84.2 seconds RetCode: 1 Status: ERROR PackageFile: None PackageFileSize: NA