Package: IntOMICS Version: 1.3.0 Command: rm -rf IntOMICS.buildbin-libdir && mkdir IntOMICS.buildbin-libdir && /Users/biocbuild/BBS/utils/build-universal.sh IntOMICS_1.3.0.tar.gz /Library/Frameworks/R.framework/Resources/bin/R IntOMICS.buildbin-libdir StartedAt: 2024-01-03 10:44:40 -0500 (Wed, 03 Jan 2024) EndedAt: 2024-01-03 10:45:49 -0500 (Wed, 03 Jan 2024) EllapsedTime: 69.0 seconds RetCode: 0 Status: OK PackageFile: IntOMICS_1.3.0.tgz PackageFileSize: 2.763 MiB