Package: IntOMICS Version: 1.4.0 Command: /Library/Frameworks/R.framework/Resources/bin/R CMD INSTALL IntOMICS StartedAt: 2024-06-09 15:43:39 -0400 (Sun, 09 Jun 2024) EndedAt: 2024-06-09 15:44:23 -0400 (Sun, 09 Jun 2024) EllapsedTime: 43.9 seconds RetCode: 0 Status: OK