Package: IntOMICS Version: 1.4.0 Command: /home/biocbuild/R/R-beta-2024-04-15_r86425/bin/R CMD INSTALL IntOMICS StartedAt: 2024-05-08 21:07:18 -0000 (Wed, 08 May 2024) EndedAt: 2024-05-08 21:08:03 -0000 (Wed, 08 May 2024) EllapsedTime: 44.8 seconds RetCode: 0 Status: OK