Package: IntOMICS Version: 1.3.0 Command: /home/biocbuild/R/R-4.4-devel-2023.11.02/bin/R CMD check --install=check:IntOMICS.install-out.txt --library=/home/biocbuild/R/R-4.4-devel-2023.11.02/site-library --no-vignettes --timings IntOMICS_1.3.0.tar.gz StartedAt: 2024-01-03 05:50:37 -0000 (Wed, 03 Jan 2024) EndedAt: 2024-01-03 05:55:39 -0000 (Wed, 03 Jan 2024) EllapsedTime: 301.5 seconds RetCode: 0 Status: WARNINGS CheckDir: IntOMICS.Rcheck Warnings: 1