Package: IntEREst Version: 1.28.0 Command: E:\biocbuild\bbs-3.19-bioc\R\bin\R.exe CMD INSTALL IntEREst StartedAt: 2024-10-16 17:06:02 -0400 (Wed, 16 Oct 2024) EndedAt: 2024-10-16 17:07:08 -0400 (Wed, 16 Oct 2024) EllapsedTime: 65.5 seconds RetCode: 0 Status: OK