Package: IntEREst Version: 1.28.0 Command: E:\biocbuild\bbs-3.19-bioc\R\bin\R.exe CMD check --no-multiarch --install=check:IntEREst.install-out.txt --library=E:\biocbuild\bbs-3.19-bioc\R\library --no-vignettes --timings IntEREst_1.28.0.tar.gz StartedAt: 2024-10-17 02:34:01 -0400 (Thu, 17 Oct 2024) EndedAt: 2024-10-17 02:41:01 -0400 (Thu, 17 Oct 2024) EllapsedTime: 420.3 seconds RetCode: 0 Status: OK CheckDir: IntEREst.Rcheck Warnings: 0