Package: IntEREst Version: 1.28.0 Command: rm -rf IntEREst.buildbin-libdir && mkdir IntEREst.buildbin-libdir && E:\biocbuild\bbs-3.19-bioc\R\bin\R.exe CMD INSTALL --build --library=IntEREst.buildbin-libdir IntEREst_1.28.0.tar.gz StartedAt: 2024-10-17 07:59:57 -0400 (Thu, 17 Oct 2024) EndedAt: 2024-10-17 08:01:08 -0400 (Thu, 17 Oct 2024) EllapsedTime: 71.6 seconds RetCode: 0 Status: OK PackageFile: IntEREst_1.28.0.zip PackageFileSize: 1.787 MiB