Package: IntEREst Version: 1.28.0 Command: /home/biocbuild/bbs-3.19-bioc/R/bin/R CMD build --keep-empty-dirs --no-resave-data IntEREst StartedAt: 2024-10-16 19:05:47 -0400 (Wed, 16 Oct 2024) EndedAt: 2024-10-16 19:07:17 -0400 (Wed, 16 Oct 2024) EllapsedTime: 90.2 seconds RetCode: 0 Status: OK PackageFile: IntEREst_1.28.0.tar.gz PackageFileSize: 1.396 MiB