Package: IntEREst Version: 1.28.0 Command: rm -rf IntEREst.buildbin-libdir && mkdir IntEREst.buildbin-libdir && /Users/biocbuild/BBS/utils/build-universal.sh IntEREst_1.28.0.tar.gz /Library/Frameworks/R.framework/Resources/bin/R IntEREst.buildbin-libdir StartedAt: 2024-10-17 16:24:18 -0400 (Thu, 17 Oct 2024) EndedAt: 2024-10-17 16:26:59 -0400 (Thu, 17 Oct 2024) EllapsedTime: 160.7 seconds RetCode: 0 Status: OK PackageFile: IntEREst_1.28.0.tgz PackageFileSize: 1.941 MiB