Package: IntEREst Version: 1.28.0 Command: /Library/Frameworks/R.framework/Resources/bin/R CMD build --keep-empty-dirs --no-resave-data IntEREst StartedAt: 2024-10-17 02:55:51 -0400 (Thu, 17 Oct 2024) EndedAt: 2024-10-17 02:58:17 -0400 (Thu, 17 Oct 2024) EllapsedTime: 145.9 seconds RetCode: 0 Status: OK PackageFile: IntEREst_1.28.0.tar.gz PackageFileSize: 1.439 MiB