Package: Informeasure Version: 1.14.0 Command: rm -rf Informeasure.buildbin-libdir && mkdir Informeasure.buildbin-libdir && E:\biocbuild\bbs-3.19-bioc\R\bin\R.exe CMD INSTALL --build --library=Informeasure.buildbin-libdir Informeasure_1.14.0.tar.gz StartedAt: 2024-10-17 07:59:30 -0400 (Thu, 17 Oct 2024) EndedAt: 2024-10-17 07:59:52 -0400 (Thu, 17 Oct 2024) EllapsedTime: 22.4 seconds RetCode: 0 Status: OK PackageFile: Informeasure_1.14.0.zip PackageFileSize: 334.1 KiB