Package: Informeasure Version: 1.14.0 Command: /home/biocbuild/R/R-beta-2024-04-15_r86425/bin/R CMD build --keep-empty-dirs --no-resave-data Informeasure StartedAt: 2024-05-09 01:05:35 -0000 (Thu, 09 May 2024) EndedAt: 2024-05-09 01:05:51 -0000 (Thu, 09 May 2024) EllapsedTime: 16.0 seconds RetCode: 0 Status: OK PackageFile: Informeasure_1.14.0.tar.gz PackageFileSize: 300.9 KiB