Package: Informeasure Version: 1.14.0 Command: rm -rf Informeasure.buildbin-libdir && mkdir Informeasure.buildbin-libdir && /Users/biocbuild/BBS/utils/build-universal.sh Informeasure_1.14.0.tar.gz /Library/Frameworks/R.framework/Resources/bin/R Informeasure.buildbin-libdir StartedAt: 2024-06-11 11:41:02 -0400 (Tue, 11 Jun 2024) EndedAt: 2024-06-11 11:41:10 -0400 (Tue, 11 Jun 2024) EllapsedTime: 7.7 seconds RetCode: 0 Status: OK PackageFile: Informeasure_1.14.0.tgz PackageFileSize: 329.3 KiB