Package: InTAD Version: 1.24.0 Command: rm -rf InTAD.buildbin-libdir && mkdir InTAD.buildbin-libdir && E:\biocbuild\bbs-3.19-bioc\R\bin\R.exe CMD INSTALL --build --library=InTAD.buildbin-libdir InTAD_1.24.0.tar.gz StartedAt: 2024-10-17 07:59:41 -0400 (Thu, 17 Oct 2024) EndedAt: 2024-10-17 08:00:25 -0400 (Thu, 17 Oct 2024) EllapsedTime: 44.1 seconds RetCode: 0 Status: OK PackageFile: InTAD_1.24.0.zip PackageFileSize: 1.145 MiB