Package: InTAD Version: 1.24.0 Command: /Library/Frameworks/R.framework/Resources/bin/R CMD INSTALL InTAD StartedAt: 2024-10-16 16:45:35 -0400 (Wed, 16 Oct 2024) EndedAt: 2024-10-16 16:46:58 -0400 (Wed, 16 Oct 2024) EllapsedTime: 82.6 seconds RetCode: 0 Status: OK