Package: InTAD
Version: 1.24.0
Command: /home/biocbuild/R/R-beta-2024-04-15_r86425/bin/R CMD INSTALL InTAD
StartedAt: 2024-05-08 21:03:41 -0000 (Wed, 08 May 2024)
EndedAt: 2024-05-08 21:04:30 -0000 (Wed, 08 May 2024)
EllapsedTime: 48.7 seconds
RetCode: 0
Status: OK