Package: InTAD Version: 1.24.0 Command: /Library/Frameworks/R.framework/Resources/bin/R CMD build --keep-empty-dirs --no-resave-data InTAD StartedAt: 2024-10-17 02:53:22 -0400 (Thu, 17 Oct 2024) EndedAt: 2024-10-17 02:54:36 -0400 (Thu, 17 Oct 2024) EllapsedTime: 73.4 seconds RetCode: 0 Status: OK PackageFile: InTAD_1.24.0.tar.gz PackageFileSize: 1.213 MiB