Package: InTAD Version: 1.24.0 Command: rm -rf InTAD.buildbin-libdir && mkdir InTAD.buildbin-libdir && /Users/biocbuild/BBS/utils/build-universal.sh InTAD_1.24.0.tar.gz /Library/Frameworks/R.framework/Resources/bin/R InTAD.buildbin-libdir StartedAt: 2024-10-18 19:01:25 -0400 (Fri, 18 Oct 2024) EndedAt: 2024-10-18 19:02:17 -0400 (Fri, 18 Oct 2024) EllapsedTime: 52.4 seconds RetCode: 0 Status: OK PackageFile: InTAD_1.24.0.tgz PackageFileSize: 1.478 MiB