Package: InPAS Version: 2.12.0 Command: chmod a+r InPAS -R && E:\biocbuild\bbs-3.19-bioc\R\bin\R.exe CMD build --keep-empty-dirs --no-resave-data InPAS StartedAt: 2024-10-16 19:50:22 -0400 (Wed, 16 Oct 2024) EndedAt: 2024-10-16 19:55:17 -0400 (Wed, 16 Oct 2024) EllapsedTime: 295.4 seconds RetCode: 0 Status: OK PackageFile: InPAS_2.12.0.tar.gz PackageFileSize: 1.315 MiB