Package: InPAS Version: 2.12.0 Command: rm -rf InPAS.buildbin-libdir && mkdir InPAS.buildbin-libdir && E:\biocbuild\bbs-3.19-bioc\R\bin\R.exe CMD INSTALL --build --library=InPAS.buildbin-libdir InPAS_2.12.0.tar.gz StartedAt: 2024-10-17 07:59:31 -0400 (Thu, 17 Oct 2024) EndedAt: 2024-10-17 08:00:38 -0400 (Thu, 17 Oct 2024) EllapsedTime: 67.4 seconds RetCode: 0 Status: OK PackageFile: InPAS_2.12.0.zip PackageFileSize: 3.319 MiB