Package: InPAS Version: 2.12.0 Command: chmod a+r InPAS -R && F:\biocbuild\bbs-3.19-bioc\R\bin\R.exe CMD build --keep-empty-dirs --no-resave-data InPAS StartedAt: 2024-06-26 19:35:29 -0400 (Wed, 26 Jun 2024) EndedAt: 2024-06-26 19:42:40 -0400 (Wed, 26 Jun 2024) EllapsedTime: 430.6 seconds RetCode: 0 Status: OK PackageFile: InPAS_2.12.0.tar.gz PackageFileSize: 1.315 MiB