Package: InPAS Version: 2.12.0 Command: /home/biocbuild/R/R-beta-2024-04-15_r86425/bin/R CMD build --keep-empty-dirs --no-resave-data InPAS StartedAt: 2024-05-09 01:05:51 -0000 (Thu, 09 May 2024) EndedAt: 2024-05-09 01:09:53 -0000 (Thu, 09 May 2024) EllapsedTime: 241.3 seconds RetCode: 0 Status: OK PackageFile: InPAS_2.12.0.tar.gz PackageFileSize: 1.367 MiB