Package: InPAS Version: 2.12.0 Command: rm -rf InPAS.buildbin-libdir && mkdir InPAS.buildbin-libdir && /Users/biocbuild/BBS/utils/build-universal.sh InPAS_2.12.0.tar.gz /Library/Frameworks/R.framework/Resources/bin/R InPAS.buildbin-libdir StartedAt: 2024-10-18 19:01:01 -0400 (Fri, 18 Oct 2024) EndedAt: 2024-10-18 19:02:10 -0400 (Fri, 18 Oct 2024) EllapsedTime: 69.6 seconds RetCode: 0 Status: OK PackageFile: InPAS_2.12.0.tgz PackageFileSize: 3.545 MiB