Package: ImmuneSpaceR Version: 1.31.0 Command: /home/biocbuild/bbs-3.19-bioc/R/bin/R CMD check --install=check:ImmuneSpaceR.install-out.txt --library=/home/biocbuild/bbs-3.19-bioc/R/site-library --timings ImmuneSpaceR_1.31.0.tar.gz StartedAt: 2023-11-06 22:35:24 -0500 (Mon, 06 Nov 2023) EndedAt: 2023-11-06 22:39:41 -0500 (Mon, 06 Nov 2023) EllapsedTime: 257.6 seconds RetCode: 0 Status: OK CheckDir: ImmuneSpaceR.Rcheck Warnings: 0