Package: ImmuneSpaceR Version: 1.32.0 Command: /Library/Frameworks/R.framework/Resources/bin/R CMD build --keep-empty-dirs --no-resave-data ImmuneSpaceR StartedAt: 2024-10-17 02:43:51 -0400 (Thu, 17 Oct 2024) EndedAt: 2024-10-17 02:44:22 -0400 (Thu, 17 Oct 2024) EllapsedTime: 30.7 seconds RetCode: 1 Status: ERROR PackageFile: None PackageFileSize: NA