Package: IgGeneUsage Version: 1.18.0 Command: chmod a+r IgGeneUsage -R && F:\biocbuild\bbs-3.19-bioc\R\bin\R.exe CMD build --keep-empty-dirs --no-resave-data IgGeneUsage StartedAt: 2024-06-26 19:32:34 -0400 (Wed, 26 Jun 2024) EndedAt: 2024-06-26 19:55:14 -0400 (Wed, 26 Jun 2024) EllapsedTime: 1359.7 seconds RetCode: 0 Status: OK PackageFile: IgGeneUsage_1.18.0.tar.gz PackageFileSize: 600 KiB