Package: IgGeneUsage Version: 1.18.0 Command: /home/biocbuild/bbs-3.19-bioc/R/bin/R CMD INSTALL IgGeneUsage StartedAt: 2024-10-16 15:58:47 -0400 (Wed, 16 Oct 2024) EndedAt: 2024-10-16 16:09:12 -0400 (Wed, 16 Oct 2024) EllapsedTime: 624.7 seconds RetCode: 0 Status: OK