Package: IgGeneUsage Version: 1.18.0 Command: /home/biocbuild/bbs-3.19-bioc/R/bin/R CMD build --keep-empty-dirs --no-resave-data IgGeneUsage StartedAt: 2024-10-16 19:02:01 -0400 (Wed, 16 Oct 2024) EndedAt: 2024-10-16 19:20:26 -0400 (Wed, 16 Oct 2024) EllapsedTime: 1104.3 seconds RetCode: 0 Status: OK PackageFile: IgGeneUsage_1.18.0.tar.gz PackageFileSize: 1.08 MiB