Package: IgGeneUsage Version: 1.18.0 Command: /Library/Frameworks/R.framework/Resources/bin/R CMD INSTALL IgGeneUsage StartedAt: 2024-10-16 15:22:59 -0400 (Wed, 16 Oct 2024) EndedAt: 2024-10-16 15:40:37 -0400 (Wed, 16 Oct 2024) EllapsedTime: 1058.6 seconds RetCode: 0 Status: OK