Package: IgGeneUsage Version: 1.18.0 Command: /Library/Frameworks/R.framework/Resources/bin/R CMD build --keep-empty-dirs --no-resave-data IgGeneUsage StartedAt: 2024-10-16 20:07:42 -0400 (Wed, 16 Oct 2024) EndedAt: 2024-10-16 20:40:36 -0400 (Wed, 16 Oct 2024) EllapsedTime: 1974.4 seconds RetCode: 0 Status: OK PackageFile: IgGeneUsage_1.18.0.tar.gz PackageFileSize: 1.194 MiB