Package: IgGeneUsage Version: 1.18.0 Command: /home/biocbuild/R/R-beta-2024-04-15_r86425/bin/R CMD check --install=check:IgGeneUsage.install-out.txt --library=/home/biocbuild/R/R-beta-2024-04-15_r86425/site-library --no-vignettes --timings IgGeneUsage_1.18.0.tar.gz StartedAt: 2024-05-09 08:30:14 -0000 (Thu, 09 May 2024) EndedAt: 2024-05-09 08:42:29 -0000 (Thu, 09 May 2024) EllapsedTime: 735.3 seconds RetCode: 0 Status: OK CheckDir: IgGeneUsage.Rcheck Warnings: 0