Package: IgGeneUsage Version: 1.18.0 Command: rm -rf IgGeneUsage.buildbin-libdir && mkdir IgGeneUsage.buildbin-libdir && /Users/biocbuild/BBS/utils/build-universal.sh IgGeneUsage_1.18.0.tar.gz /Library/Frameworks/R.framework/Resources/bin/R IgGeneUsage.buildbin-libdir StartedAt: 2024-10-18 18:59:05 -0400 (Fri, 18 Oct 2024) EndedAt: 2024-10-18 19:09:22 -0400 (Fri, 18 Oct 2024) EllapsedTime: 617.1 seconds RetCode: 0 Status: OK PackageFile: IgGeneUsage_1.18.0.tgz PackageFileSize: 2.976 MiB