Package: IdeoViz Version: 1.40.0 Command: E:\biocbuild\bbs-3.19-bioc\R\bin\R.exe CMD INSTALL IdeoViz StartedAt: 2024-10-16 16:27:18 -0400 (Wed, 16 Oct 2024) EndedAt: 2024-10-16 16:27:51 -0400 (Wed, 16 Oct 2024) EllapsedTime: 33.4 seconds RetCode: 0 Status: OK