Package: IdeoViz Version: 1.40.0 Command: /Library/Frameworks/R.framework/Resources/bin/R CMD build --keep-empty-dirs --no-resave-data IdeoViz StartedAt: 2024-10-17 02:36:27 -0400 (Thu, 17 Oct 2024) EndedAt: 2024-10-17 02:36:28 -0400 (Thu, 17 Oct 2024) EllapsedTime: 1.2 seconds RetCode: 0 Status: OK PackageFile: IdeoViz_1.40.0.tar.gz PackageFileSize: 411.8 KiB