Package: Icens Version: 1.76.0 Command: rm -rf Icens.buildbin-libdir && mkdir Icens.buildbin-libdir && E:\biocbuild\bbs-3.19-bioc\R\bin\R.exe CMD INSTALL --build --library=Icens.buildbin-libdir Icens_1.76.0.tar.gz StartedAt: 2024-10-17 07:58:34 -0400 (Thu, 17 Oct 2024) EndedAt: 2024-10-17 07:58:56 -0400 (Thu, 17 Oct 2024) EllapsedTime: 21.6 seconds RetCode: 0 Status: OK PackageFile: Icens_1.76.0.zip PackageFileSize: 113 KiB