Package: Icens Version: 1.76.0 Command: /Library/Frameworks/R.framework/Resources/bin/R CMD check --install=check:Icens.install-out.txt --library=/Library/Frameworks/R.framework/Resources/library --no-vignettes --timings Icens_1.76.0.tar.gz StartedAt: 2024-10-17 06:51:21 -0400 (Thu, 17 Oct 2024) EndedAt: 2024-10-17 06:52:40 -0400 (Thu, 17 Oct 2024) EllapsedTime: 79.1 seconds RetCode: 0 Status: OK CheckDir: Icens.Rcheck Warnings: 0