Package: Icens Version: 1.76.0 Command: /Library/Frameworks/R.framework/Resources/bin/R CMD build --keep-empty-dirs --no-resave-data Icens StartedAt: 2024-10-16 20:06:10 -0400 (Wed, 16 Oct 2024) EndedAt: 2024-10-16 20:06:12 -0400 (Wed, 16 Oct 2024) EllapsedTime: 2.1 seconds RetCode: 0 Status: OK PackageFile: Icens_1.76.0.tar.gz PackageFileSize: 20.83 KiB